Workbook
Name CL: 'C'!$A$2:$A$239
Name Gold: K!$B$2:$B$191
Name LT: L!$A$1:$Z$1000
Name Metal: 'Smelter List'!$R$3:$U$3
Name S_E1: 'Standard Smelter Names'!$E$1
Name S_M: 'Standard Smelter Names'!$M:$M
Name SL: Declaration!$D$3
Name Tantalum: K!$B$192:$B$236
Name Tin: K!$B$237:$B$345
Name Tungsten: K!$B$346:$B$430

Sheet Revision
B2: DOCUMENT TITLE
B3: Conflict Minerals Reporting Template
B4: SHEET
B5: 1 of 8
B9: REVISION HISTORY
B10: A change in the first digit of the revision number (e.g., 1.0 to 2.0) signifies a set of major improvements have occurred which will likely include different data reporting requirements. Changes to the first or second decimal place (e.g., “2.01” to “2.02”) indicate only minor changes have been made to the template which are not expected to result in substantial changes to the data being reported. The addition of a letter (e.g., “a”, or “b”, or “c”) following the revision number indicate that only the standard smelter list has been updated from the prior version.
B12: REVISION | C12: ORIGINATOR | D12: RELEASE DATE | E12: DESCRIPTION OF FUNCTIONAL CHANGE | F12: UPDATES TO SMELTER LIST
B13: 1 | C13: Jared Connors, Intel | D13: July 19th, 2011 | E13: New Release
B14: 2 | C14: Jared Connors, Intel | D14: Aug 29th, 2012 | E14: Major update to functionality including: addition of the known smelter list, addition of declaration scope including product tab, and added and modified multiple questions and / or their responses. | F14: New.
B15: 2.01 | C15: Jared Connors, Intel | D15: Dec 21st 2012 | E15: List of changes to the template functionality: 1. Modified Smelter List tab to prevent smelter rows from wrapping text. This was being caused by the hidden formula in column A which allows for a software vendor to easily grab the smelter IDs. 2. Changed protection settings on the Smelter List tab to allow users to delete rows. This allows users to delete rows with incorrect entries within the smelter tab. Ensured that columns could not be mistakenly deleted in the process. | F15: 1. Added “CV DS Jaya Abadi” an alias to “PT Stanindo Inti Perkasa” 2. Added “Mentok” as an alias to “PT Tambang Timah” 3. Corrected spelling of "Duoluoshan" id # 3CHN001 4. Corrected spelling of "Mitsubishi Materials Corporation" id # 1JPN039 5. Changed “Gejiu Non-ferrous” to its proper name “Geiju Non-Ferrous Metal Processing Co. Ltd.” 6. Changed “Mitsubishi Material” to its proper name “Mitsubishi Materials Corporation” 7. Changed “Niotan” to “Kemet Blue Powder” 8. Added “Nihon Material Co. LTD” as a gold refiner 9. Added “Aida Chemical Industries Co. Ltd.” as a gold refiner 10. Added “Asaka Riken Co Ltd” as a gold refiner
F16: 11. Added “Kojima Chemical” as a gold refiner 12. Added “Sabin” as a gold refiner 13. Added “United Precious Metal Refining Inc.” as a gold refiner 14. Added “Yokohama Metal Co Ltd” as a gold refiner 15. Added “CNMC (Guangxi) PGMA Co., Ltd.” as a tin refiner 16. Added “Conghua Tantalum and Niobium Smeltry” as a tantalum refiner 17. Removed “Tantalite Resources” as a refinery 18. Added “Minmetals Ganzhou Tin Co. Ltd.” as a tin refinery 19. Updated “ATI Metalworking Products” to its proper full name “ATI Tungsten Materials” 20. Updated “China Minmetals Corp.” to its proper full name “China Minmetals Nonferrous Metals Co Ltd”
F17: 21. Removed “Ganzhou Huaxing Tungsten” as a smelter 22. Removed “Ganzhou Nonferrous Metals Smelting Co Ltd.” as a smelter 23. Removed “Sichuan Metals & Materials Imp & Exp Co as a tungsten smelter 24. Added “Ganzhou Grand Sea W & Mo Group Co., Ltd.” as a tungsten smelter 25. Added “Hunan Chenzhou Mining Group Co” as a tungsten smelter 26. Added “Japan New Metals Co Ltd” as a tungsten smelter 27. Added “Zhuzhou Cemented Carbide Group Co Ltd” as a tungsten smelter
B18: 2.02 | C18: Jared Connors, Intel | D18: March 29th 2013 | E18: 1. Added new selection to the metals dropdown lists of smelter list tab “Smelter not yet identified” 2. Moved “smelter not listed” to the bottom of each metals dropdown list 3. Fixed error in Checker sheet to eliminate display of text “one or more smelters have been added to smelter list” when rows are deleted 4. Rewrite of T&Cs 5. Adding Italian translation 6. Allow for deletion of rows in Smelter List tab 7. Removed hover over text in column C of Smelter List tab 8. Inserted additional rows for data entry on the Smelter List tab up to 2,500 rows 9. Made smelter ID numbers visible in Smelter List tab 10. Made template revision history tab visible | F18: 1. Added the following aliases to Ohio Precious Metals “OPM Metals”, “USPM”, “United States Precious Metals” 2. Added “ALMT” as tungsten smelter 3. Added “Suzhou Xingrui Noble” as gold smelter 4. Added “Shangdong Zhaojin Group” as an alias of “Shandong Zhaojin Gold & Silver Refinery Co., Ltd” 5. Added “Shandong Zhaoyuan Gold Argentine refining company limited” as an alias of “Zhongyuan Gold Smelter of Zhongjin Gold Corporation” 6. Added “SEMPSA” as an alias for “SEMPSA Joyeria Plateria SA” 7. Added “Umicore Brazil Ltd” as an alias for “Umicore Brasil Ltda” 8. Added “Pan Pacific Copper Co., LTD.” as a gold smelter 9. Added “White Solder Metalurgia” as a tin smelter 10. Added “JiuJiang JinXin Nonferrous Metals Co. Ltd.” as a tantalum smelter
E19: 11. Removed language selection from individual tabs, all controlled on Declaration tab 12. Updated template to prevent users from adding tabs to the worksheet 13. Added statement at the top of the revision history tab clarifying purpose of .0x revision updates | F19: 11. Corrected spelling of “jiujiang Tanbre” to “JiuJiang Tambre Co. Ltd.” 12. Added Torecom as a gold smelter 15. Added “PT Tinindo Internusa” as alias of “PT Tinindo Inter Nusa” 16. Added “CV Jus Tindo” as alias of “CV JusTindo” 17. Added “PT Bellitin Makmur Lestari” and “BML” as alias of “PT BilliTin Makmur Lestari” 18. Added “Liuzhou China Tin Group Co., Ltd.” as alias of “Liuzhou China Tin” 19. Added “PT Timah (Persero) TBK” and “Banka Tin” as alias of “PT Tambang Timah” 20. Added “Yun Nan Tin Co.,LTD” as alias of “Yunnan Tin Company Limited”
F20: 21. Added “GEJIU ZILI MINING&SMELTING CO.,LTD.” as alias of “Gejiu Zi-Li” 22. Added “Jiangxi Tungsten Co Ltd” as alias of “Jiangxi Tungsten Industry Group Co Ltd” 23. Added “Linwu Xianggui” as a tin smelter 24. Added "IMLI" and “Indra Eramulti Logam” as aliases of “PT Bukit Timah” 25. Added “CV Gita Pesona” as tin smelter 26. Added “PT Tommy Utama” as tin smelter 27. Added “PT Bangka Tin Industry” as tin smelter 28. Added “PT DS Jaya Abadi” as tin smelter 29. Added “PT Panca Mega” as tin smelter 30. Added “PT Seirama Tin investment” as tin smelter
F21: 31. Added “PT Karimun Mining” as tin smelter 32. Added “Cooper Santa” as tin smelter 33. Added “Daejin Indus Co. Ltd” as gold smelter 34. Added “DaeryongENC” as gold smelter 35. Added “Do Sung Corporation” as gold smelter 36. Added “Hwasung CJ Co. Ltd” as gold smelter 37. Added “Korea Metal” as gold smelter 38. Added “SAMWON METALS Corp.” as gold smelter
B22: 2.03 | C22: Akimasa Yamakawa, JEITA / John Plyler, BlackBerry | D22: July 12th 2013 | E22: 1. Resolved Excel 2003 incompatibility with programming for multiple languages. 2. Minor corrections to row number references in the instructions. 3. Added translation on checker sheet for the Column Name “Hyperlink to Source” 4. Corrected Japanese translation of "authorized representative" and "representative" on Declaration worksheet. 5. Adjusted row spacing of misc cells to allow for different lengths of translated text and comments. 6. Removed the symbols for the metals on the standard smelter list (e.g., "Sn"). 7. Deleted text "If no for all metals, you are done with this survey." from question 1 on the Declaration worksheet. | F22: 1. Added “Fujian Jinxin Tungsten Co., Ltd.” as tungsten refiner 2. Added “Dayu Weiliang Tungsten Co., Ltd.” as tungsten refiner 3. Added “Xinhai Rendan Shaoguan Tungsten Co., Ltd.” as tungsten refiner 4. Added “Hunan Chun-Chang Nonferrous Smelting & Concentrating Co., Ltd.” as tungsten refiner 5. Added “Jiangxi Minmetals Gao'an Non-ferrous Metals Co., Ltd.” as tungsten refiner 6. Corrected the spelling of "Allydne" to "Alldyne" 7. Corrected the spelling of "Allydne Powder Technologies" to "Alldyne Powder Technologies" 8. Corrected the spelling of "Korea Metal" to "Korea Metal Co. Ltd" 9. Added "LMS Brasil S.A." as tantalum smelter 10. Added "QuantumClean" as tantalum smelter
F23: 11. Added "Taki Chemicals" as tantalum smelter 12. Added "Tantalite Resources" as tantalum smelter 13. Corrected naming inconsistency of “Ohio Precious Metals LLC.” on standard smelter list and alias table. 14. Corrected naming inconsistency of “The Refinery of Shandong Gold Mining Co., Ltd” on standard smelter list and alias table. 15. Added "Molycorp Silmet" as tantalum smelter 16. Added "King-Tan Tantalum Industry Ltd" as tantalum smelter 17. Added "CooperMetal" as an alias of "Coopersanta" 18. Corrected the spelling of "Malaysia Smelting Corp" to "Malaysia Smelting Corporation (MSC)" 19. Corrected the spelling of "Asahi Pretec Corp" to "Asahi Pretec Corporation" 20. Corrected the spelling of "United Precious Metal Refining Inc." to “United Precious Metal Refining, Inc.”
F24: 21. Added "Fenix Metals" as tin smelter 22. Changed alias “Bangka Tin” from “PT Tambang Timah” to “PT Timah” 23. Added “Ketapang” as an alias of “PT Bangka Putra Karya” 24. Corrected the Smelter ID of Cooper Santa from “2IDN063” to “2BRA063” 25. Added "Kundur" as an alias of “PT Tambang Timah” 26. Added “TT” as an alias of “PT Tambang Timah” 27. Added "CooperMetal" as an alias of "Coopersanta" 28. Corrected spelling of “CV Prima Timah Utama” to “PT Prima Timah Utama”.
B25: 2.03a | C25: John Plyler, BlackBerry | D25: July 25th 2013 | F25: 1. Corrected the spelling of "ALMT" to "A.L.M.T. Corp." 2. Added "A.L.M.T. Tungsten Corp", "Allied Material Corp", and "ALMT" as aliases of "A.L.M.T. Corp." 3. Corrected country of "A.L.M.T. Corp." to "Japan" and smelter ID to "4JPN020" 4. Changed alias "Wolfram" for "Wolfram Company CJSC" to "Wolfram [Russia]" 5. Added "Wolfram [Austria]" as an alias of "Wolfram Bergbau und Hütten AG" 6. Added "Kennametal Inc." as a tungsten refiner 7. Added "Kennametal" as an alias of "Kennametal Inc."
B28: 2011 Electronic Industry Citizenship Coalition, Incorporated and Global e-Sustainability Initiative. All rights reserved.

Sheet Instructions
A1: =HLOOKUP(SL,LT,MATCH("Instructions"&"A"&ROW(),L!$A:$A,0),0) -> EICC Extractives website: (www.eicc.info/extractives.htm) training, request template, FAQs, Conflict-Free Smelters (CFS) list
A2: =HLOOKUP(SL,LT,MATCH("Instructions"&"A"&ROW(),L!$A:$A,0),0) -> Introduction
A3: =HLOOKUP(SL,LT,MATCH("Instructions"&"A"&ROW(),L!$A:$A,0),0) -> This EICC-GeSI Conflict Minerals Reporting Template (the Template) was created by the Electronic Industry Citizenship Coalition® (EICC®) and the Global e-Sustainability Initiative (GeSI) as a common means for the collection of sourcing information related to “Conflict Minerals”. Companies in the electronics and all other industries may adopt this Template as an element of their due diligence program to verify the responsible sourcing of materials and to support compliance to new legislation*. This Template is consistent with EICC and GeSI’s related activities including the Conflict Free Smelter (CFS) Program**.
A4: =HLOOKUP(SL,LT,MATCH("Instructions"&"A"&ROW(),L!$A:$A,0),0) -> * In 2010, the U.S. Dodd-Frank Act was passed concerning “Conflict Minerals” originating from the Democratic Republic of the Congo (DRC) or adjoining countries. The SEC has published final rules associated with the disclosure of the source of Conflict Minerals by U.S. publicly traded companies (see the rules at http://www.sec.gov/rules/final/2012/34-67716.pdf). The rules reference the OECD Due Diligence Guidance for Responsible Supply Chains of Minerals from Conflict-Affected and High-Risk Areas, (http://www.oecd.org/dataoecd/62/30/46740847.pdf), which guides suppliers to establish policies, due diligence frameworks, and management systems. ** See information on the Conflict-Free Smelter (CFS) Program (www.conflictfreesmelter.org/) and other information (www.eicc.info/extractives.htm).
A6: =HLOOKUP(SL,LT,MATCH("Instructions"&"A"&ROW(),L!$A:$A,0),0) -> Instructions for completing Company Information questions (rows 8 - 18). Provide comments in ENGLISH only
A7: =HLOOKUP(SL,LT,MATCH("Instructions"&"A"&ROW(),L!$A:$A,0),0) -> Note: Entries with (*) are mandatory fields.
A8: =HLOOKUP(SL,LT,MATCH("Instructions"&"A"&ROW(),L!$A:$A,0),0) -> 1. Insert your company's Legal Name. Please do not use abbreviations
A9: =HLOOKUP(SL,LT,MATCH("Instructions"&"A"&ROW(),L!$A:$A,0),0) -> 2. Select your company’s Declaration Scope. For Scope selections of “Division” or “Category of Products”, provide additional details describing company division or plant, or specific category of product(s) for which this Template is being completed in the “Description of Scope” field. For Scope selection of Product(s) a link to the worksheet tab for Product List will be displayed.
A10: =HLOOKUP(SL,LT,MATCH("Instructions"&"A"&ROW(),L!$A:$A,0),0) -> 3. Insert your company’s unique identifier number or code (DUNS number, VAT number, etc)
A11: =HLOOKUP(SL,LT,MATCH("Instructions"&"A"&ROW(),L!$A:$A,0),0) -> 4. Insert your full company address (street, city, state, country, postal code)
A12: =HLOOKUP(SL,LT,MATCH("Instructions"&"A"&ROW(),L!$A:$A,0),0) -> 5. Please identify the authorized management representative responsible for the accuracy of the data in this template.
A13: =HLOOKUP(SL,LT,MATCH("Instructions"&"A"&ROW(),L!$A:$A,0),0) -> 7. Please enter the Date of Completion for this form using the format DD-MMM-YYYY
... A65: =HLOOKUP(SL,LT,MATCH("Instructions"&"A"&ROW(),L!$A:$A,0),0) -> © 2011 Electronic Industry Citizenship Coalition, Incorporated and Global e-Sustainability Initiative. All rights reserved.
A66: Return to declaration tab
A67: Revision 2.03a July 25th 2013

Sheet Definitions
B2: =HLOOKUP(SL,LT,MATCH("Definitions"&"B"&ROW(),L!$A:$A,0),0) -> ITEM | C2: =HLOOKUP(SL,LT,MATCH("Definitions"&"C"&ROW(),L!$A:$A,0),0) -> DEFINITION
B3: =HLOOKUP(SL,LT,MATCH("Definitions"&"B"&ROW(),L!$A:$A,0),0) -> Adjoining Country | C3: =HLOOKUP(SL,LT,MATCH("Definitions"&"C"&ROW(),L!$A:$A,0),0) -> A country that shares an internationally recognized border with the Democratic Republic of Congo is considered an “adjoining country”.
B4: =HLOOKUP(SL,LT,MATCH("Definitions"&"B"&ROW(),L!$A:$A,0),0) -> CFS Compliant Smelter List | C4: =HLOOKUP(SL,LT,MATCH("Definitions"&"C"&ROW(),L!$A:$A,0),0) -> Conflict-Free Smelter Program Compliant Smelter List is a list of smelters which have been independently audited and determined to be compliant to a CFS protocol. The list and protocols can be found here: (http://www.conflictfreesmelter.org/)
B5: =HLOOKUP(SL,LT,MATCH("Definitions"&"B"&ROW(),L!$A:$A,0),0) -> CFS Program | C5: =HLOOKUP(SL,LT,MATCH("Definitions"&"C"&ROW(),L!$A:$A,0),0) -> The Conflict-Free Smelter (CFS) Program is a program developed by EICC and GeSI to enhance company capability to verify the responsible sourcing of metals. Further details of the CFS Program can be found here: (http://www.conflictfreesmelter.org/)
B6: =HLOOKUP(SL,LT,MATCH("Definitions"&"B"&ROW(),L!$A:$A,0),0) -> Conflict Mineral | C6: =HLOOKUP(SL,LT,MATCH("Definitions"&"C"&ROW(),L!$A:$A,0),0) -> As defined in 2010 United States legislation, Dodd-Frank Wall Street Reform and Consumer Protection Act, Section 1502(e)(4): CONFLICT MINERAL.—The term ‘‘conflict mineral’’ means— (A) columbite-tantalite (coltan), cassiterite, gold, wolframite, or their derivatives; or (B) any other mineral or its derivatives determined by the Secretary of State to be financing conflict in the Democratic Republic of the Congo or an adjoining country. (available at http://www.sec.gov/about/laws/wallstreetreform-cpa.pdf)
B7: =HLOOKUP(SL,LT,MATCH("Definitions"&"B"&ROW(),L!$A:$A,0),0) -> Declaration Scope | C7: =HLOOKUP(SL,LT,MATCH("Definitions"&"C"&ROW(),L!$A:$A,0),0) -> For purposes of this template, the Scope describes the applicability of the information provided by the reporting company. The scope may encompass the entirety of a company’s services and/or products, or at a company’s discretion, the template may be used to address the company’s specific Division, Category of Products, or Product(s).
B8: =HLOOKUP(SL,LT,MATCH("Definitions"&"B"&ROW(),L!$A:$A,0),0) -> Division | C8: =HLOOKUP(SL,LT,MATCH("Definitions"&"C"&ROW(),L!$A:$A,0),0) -> A division is a defined unit of a business which performs a specific service or produces a specific category of products.
B9: =HLOOKUP(SL,LT,MATCH("Definitions"&"B"&ROW(),L!$A:$A,0),0) -> Dodd-Frank | C9: =HLOOKUP(SL,LT,MATCH("Definitions"&"C"&ROW(),L!$A:$A,0),0) -> 2010 United States legislation, Dodd-Frank Wall Street Reform and Consumer Protection Act, Section 1502 (“Dodd-Frank”) (http://www.sec.gov/about/laws/wallstreetreform-cpa.pdf)
B10: =HLOOKUP(SL,LT,MATCH("Definitions"&"B"&ROW(),L!$A:$A,0),0) -> DRC | C10: =HLOOKUP(SL,LT,MATCH("Definitions"&"C"&ROW(),L!$A:$A,0),0) -> Democratic Republic of Congo
B11: =HLOOKUP(SL,LT,MATCH("Definitions"&"B"&ROW(),L!$A:$A,0),0) -> DRC Conflict-Free | C11: =HLOOKUP(SL,LT,MATCH("Definitions"&"C"&ROW(),L!$A:$A,0),0) -> Is defined to mean the products that do not contain minerals that directly or indirectly finance or benefit armed groups in the Democratic Republic of the Congo or an adjoining country. Source: 2010 United States legislation, Dodd-Frank Wall Street Reform and Consumer Protection Act, Section 1502 (http://www.sec.gov/about/laws/wallstreetreform-cpa.pdf)
B12: =HLOOKUP(SL,LT,MATCH("Definitions"&"B"&ROW(),L!$A:$A,0),0) -> EICC | C12: =HLOOKUP(SL,LT,MATCH("Definitions"&"C"&ROW(),L!$A:$A,0),0) -> Electronics Industry Citizenship Coalition (www.eicc.info)
B13: =HLOOKUP(SL,LT,MATCH("Definitions"&"B"&ROW(),L!$A:$A,0),0) -> GeSI | C13: =HLOOKUP(SL,LT,MATCH("Definitions"&"C"&ROW(),L!$A:$A,0),0) -> Global e-Sustainability Initiative (www.gesi.org)
... B23: =HLOOKUP(SL,LT,MATCH("Definitions"&"B"&ROW(),L!$A:$A,0),0) -> Tungsten Smelter | C23: =HLOOKUP(SL,LT,MATCH("Definitions"&"C"&ROW(),L!$A:$A,0),0) -> A tungsten (W) refiner is defined as a company converting W ore (wolframite and scheelite), W concentrates, or W-bearing secondary material for conversion to tungsten containing intermediates such as Ammonium Para-Tungstate (APT), Ammonium Meta-Tungstate (AMT), ferrotungsten, and tungsten oxides. APT production is the typical identifying capability of a tungsten smelter.
B24: =HLOOKUP(SL,LT,MATCH("Definitions"&"B"&ROW(),L!$A:$A,0),0) -> © 2011 Electronic Industry Citizenship Coalition, Incorporated and Global e-Sustainability Initiative. All rights reserved.

Sheet Declaration
D2: =HLOOKUP(SL,LT,MATCH("Declaration"&"d"&ROW(),L!$A:$A,0),0) -> Conflict Minerals Reporting Template
B3: Select Language Preference Here: 请选择你的语言: 사용할 언어를 선택하시오 : 表示言語をここから選択してください: Sélectionner la langue préférée ici: Selecione Preferência de idioma Aqui: Wählen sie hier die Sprache: Seleccione el lenguaje de preferencia aqui: Selezionare la lingua di preferenza qui: | D3: English | F3: =IF(D8="","","Click here to check required fields completion") -> Click here to check required fields completion | I3: =IF(AND(Checker!D2<>40,Checker!D2>0),"1 or more required fields need to be populated","") | J3: Revision 2.03a July 25th, 2013 | P3: English | Q3: 中文 Chinese | R3: 日本語 Japanese | S3: 한국어 Korean | T3: Français | U3: Português | V3: Deutsch | W3: Español | X3: italiano
B4: =HLOOKUP(SL,LT,MATCH("Declaration"&"b"&ROW(),L!$A:$A,0),0) -> The purpose of this document is to collect sourcing information on tin, tantalum, tungsten and gold used in products | I4: Link to Terms & Conditions
B6: =HLOOKUP(SL,LT,MATCH("Declaration"&"b"&ROW(),L!$A:$A,0),0) -> Mandatory fields are noted with an asterisk (*). The information collected in this template should be updated annually. Any changes within the annual cycle should be provided to your customers
B7: =HLOOKUP(SL,LT,MATCH("Declaration"&"b"&ROW(),L!$A:$A,0),0) -> Company Information
B8: =HLOOKUP(SL,LT,MATCH("Declaration"&"b"&ROW(),L!$A:$A,0),0) -> Company Name (*): | D8: Sonetics Corporation
B9: =HLOOKUP(SL,LT,MATCH("Declaration"&"b"&ROW(),L!$A:$A,0),0) -> Declaration Scope (*): | D9: A. Company Level | P9: A. Company Level | Q9: B. Division Level [Specify in 'Description of scope'] | R9: C. Product Category Level [Specify in 'Description of scope'] | S9: D. Product Level
B10: =HLOOKUP(SL,LT,MATCH("Declaration"&"b"&ROW(),L!$A:$A,0),0) -> Description of Scope: | D10: All products under Sonetics , Firecom and Flightcombrands | P10: =IF(D9=Q9,1,0) -> 0
D11: =IF(P12>0,"Click here to enter the products this declaration applies to","") | P11: =IF(D9=R9,1,0) -> 0
B12: =HLOOKUP(SL,LT,MATCH("Declaration"&"b"&ROW(),L!$A:$A,0),0) -> Company Unique Identifier: | P12: =IF(D9=S9,2,0) -> 0
B13: =HLOOKUP(SL,LT,MATCH("Declaration"&"b"&ROW(),L!$A:$A,0),0) -> Address: | D13: 7340 SW Durham Rd. Portland, OR 97224 USA | P13: =SUM(P10:P12) -> 0
B14: =HLOOKUP(SL,LT,MATCH("Declaration"&"b"&ROW(),L!$A:$A,0),0) -> Authorized Company Representative Name (*): | D14: Michael Heade
B15: =HLOOKUP(SL,LT,MATCH("Declaration"&"b"&ROW(),L!$A:$A,0),0) -> Representative Title: | D15: Compliance Engineer
B16: =HLOOKUP(SL,LT,MATCH("Declaration"&"b"&ROW(),L!$A:$A,0),0) -> Representative Email (*): | D16: michael.heade@soneticscorp.com
B17: =HLOOKUP(SL,LT,MATCH("Declaration"&"b"&ROW(),L!$A:$A,0),0) -> Representative Phone: | D17: 1-503-684-7080
B18: =HLOOKUP(SL,LT,MATCH("Declaration"&"b"&ROW(),L!$A:$A,0),0) -> Date of Completion (*): | D18: 39815
B20: =HLOOKUP(SL,LT,MATCH("Declaration"&"b"&ROW(),L!$A:$A,0),0) -> Answer the following questions 1 - 6 based on the declaration scope indicated above
B21: =HLOOKUP(SL,LT,MATCH("Declaration"&"b"&ROW(),L!$A:$A,0),0) -> 1) Are any of the following metals necessary to the functionality or production of your company's products that it manufactures or contracts to manufacture? (*) | D21: =HLOOKUP(SL,LT,MATCH("Declaration"&"Ans",L!$A:$A,0),0) -> Answer | G21: =HLOOKUP(SL,LT,MATCH("Declaration"&"Cmt",L!$A:$A,0),0) -> Comments
B22: =HLOOKUP(SL,LT,MATCH("Declaration"&"Ta",L!$A:$A,0),0)&"(*)" -> Tantalum (*) | D22: No | G22: No SEC or customer reporting requirement exists for our products since we design and completely control manufacturing process. Sonetics is not a publicly traded company and does not have influence over the manufacture of sub-components. | P22: =IF(D22="Yes",1,0) -> 0 | Q22: =IF(D22="No",1,0) -> 1
B23: =HLOOKUP(SL,LT,MATCH("Declaration"&"Sn",L!$A:$A,0),0)&"(*)" -> Tin (*) | D23: Yes | G23: No SEC or customer reporting requirement exists for our products since we design and completely control manufacturing process. Sonetics is not a publicly traded company and does not have influence over the manufacture of sub-components. | P23: =IF(D23="Yes",1,0) -> 1 | Q23: =IF(D23="No",1,0) -> 0
B24: =HLOOKUP(SL,LT,MATCH("Declaration"&"Au",L!$A:$A,0),0)&"(*)" -> Gold (*) | D24: No | G24: No SEC or customer reporting requirement exists for our products since we design and completely control manufacturing process. Sonetics is not a publicly traded company and does not have influence over the manufacture of sub-components. | P24: =IF(D24="Yes",1,0) -> 0 | Q24: =IF(D24="No",1,0) -> 1
B25: =HLOOKUP(SL,LT,MATCH("Declaration"&"W",L!$A:$A,0),0)&"(*)" -> Tungsten (*) | D25: No | G25: No SEC or customer reporting requirement exists for our products since we design and completely control manufacturing process. Sonetics is not a publicly traded company and does not have influence over the manufacture of sub-components. | P25: =IF(D25="Yes",1,0) -> 0 | Q25: =IF(D25="No",1,0) -> 1
P26: =SUM(P22:P25) -> 1 | Q26: =SUM(Q22:Q25) -> 3
B27: =HLOOKUP(SL,LT,MATCH("Declaration"&"b"&ROW(),L!$A:$A,0),0) -> 2) Do the following metals (necessary to the functionality or production of your company's products) originate from the DRC or an adjoining country? (*) | D27: =HLOOKUP(SL,LT,MATCH("Declaration"&"Ans",L!$A:$A,0),0) -> Answer | G27: =HLOOKUP(SL,LT,MATCH("Declaration"&"Cmt",L!$A:$A,0),0) -> Comments
B28: =HLOOKUP(SL,LT,MATCH("Declaration"&"Ta",L!$A:$A,0),0)&IF($D$22="No","","(*)") -> Tantalum | D28: No
B29: =HLOOKUP(SL,LT,MATCH("Declaration"&"Sn",L!$A:$A,0),0)&IF($D$23="No","","(*)") -> Tin (*) | D29: No | G29: BOM identified source of tin in solder verified as conflict free (Other potential sources of tin are outside of our supply chain)
B30: =HLOOKUP(SL,LT,MATCH("Declaration"&"Au",L!$A:$A,0),0)&IF($D$24="No","","(*)") -> Gold | D30: No
B31: =HLOOKUP(SL,LT,MATCH("Declaration"&"W",L!$A:$A,0),0)&IF($D$25="No","","(*)") -> Tungsten | D31: No
B33: =HLOOKUP(SL,LT,MATCH("Declaration"&"b"&ROW(),L!$A:$A,0),0) -> 3) Do the following metals (necessary to the functionality or production of your products) come from a recycler or scrap supplier? (*) | D33: =HLOOKUP(SL,LT,MATCH("Declaration"&"Ans",L!$A:$A,0),0) -> Answer | G33: =HLOOKUP(SL,LT,MATCH("Declaration"&"Cmt",L!$A:$A,0),0) -> Comments
B34: =HLOOKUP(SL,LT,MATCH("Declaration"&"Ta",L!$A:$A,0),0)&IF($D$22="No","","(*)") -> Tantalum | D34: No
B35: =HLOOKUP(SL,LT,MATCH("Declaration"&"Sn",L!$A:$A,0),0)&IF($D$23="No","","(*)") -> Tin (*) | D35: No
B36: =HLOOKUP(SL,LT,MATCH("Declaration"&"Au",L!$A:$A,0),0)&IF($D$24="No","","(*)") -> Gold | D36: No
B37: =HLOOKUP(SL,LT,MATCH("Declaration"&"W",L!$A:$A,0),0)&IF($D$25="No","","(*)") -> Tungsten | D37: No
B39: =HLOOKUP(SL,LT,MATCH("Declaration"&"b"&ROW(),L!$A:$A,0),0) -> 4) Have you received completed Conflict Minerals Reporting Templates from all of your suppliers? (*) | D39: =HLOOKUP(SL,LT,MATCH("Declaration"&"Ans",L!$A:$A,0),0) -> Answer | G39: =HLOOKUP(SL,LT,MATCH("Declaration"&"Cmt",L!$A:$A,0),0) -> Comments | H39: =IF($P$26>0,"Click here to enter smelter names","") -> Click here to enter smelter names
B40: =HLOOKUP(SL,LT,MATCH("Declaration"&"Ta",L!$A:$A,0),0)&IF($D$22="No","","(*)") -> Tantalum | D40: No - none
B41: =HLOOKUP(SL,LT,MATCH("Declaration"&"Sn",L!$A:$A,0),0)&IF($D$23="No","","(*)") -> Tin (*) | D41: Yes | G41: BOM identified source of tin in solder verified as conflict free (See: Smelter list tab)
B42: =HLOOKUP(SL,LT,MATCH("Declaration"&"Au",L!$A:$A,0),0)&IF($D$24="No","","(*)") -> Gold | D42: No - none
B43: =HLOOKUP(SL,LT,MATCH("Declaration"&"W",L!$A:$A,0),0)&IF($D$25="No","","(*)") -> Tungsten | D43: No - none
B45: =HLOOKUP(SL,LT,MATCH("Declaration"&"b"&ROW(),L!$A:$A,0),0) -> 5) For each of the following metals, have you identified all of the smelters your company and its suppliers use to supply the products included within the declaration scope indicated above? (*) | D45: =HLOOKUP(SL,LT,MATCH("Declaration"&"Ans",L!$A:$A,0),0) -> Answer | G45: =HLOOKUP(SL,LT,MATCH("Declaration"&"Cmt",L!$A:$A,0),0) -> Comments | H45: =IF($P$26>0,"Click here to enter smelter names","") -> Click here to enter smelter names
B46: =HLOOKUP(SL,LT,MATCH("Declaration"&"Ta",L!$A:$A,0),0)&IF($D$22="No","","(*)") -> Tantalum | D46: No
...

Sheet Smelter List
B2: =HLOOKUP(SL,LT,MATCH("Smelter List"&"b"&ROW(),L!$A:$A,0),0) -> To begin: Step 1. Select Metal in column B Step 2. Select from dropdown in column C Step 3. If dropdown selection is "Smelter Not Listed" complete columns D & E Step 4. Enter all available smelter information in columns F thru N | I2: =HLOOKUP(SL,LT,MATCH("Smelter List"&"i"&ROW(),L!$A:$A,0),0) -> Link to "CFS Compliant Smelter List"
E3: © 2011 Electronic Industry Citizenship Coalition, Incorporated and Global e-Sustainability Initiative. All rights reserved. | O3: Revision 2.03a July 25th 2013 | R3: Gold | S3: Tin | T3: Tantalum | U3: Tungsten
B4: =HLOOKUP(SL,LT,MATCH("Smelter List"&"b"&ROW(),L!$A:$A,0),0) -> Metal (*) | C4: =HLOOKUP(SL,LT,MATCH("Smelter List"&"c"&ROW(),L!$A:$A,0),0) -> Smelter Reference List (*) | D4: =HLOOKUP(SL,LT,MATCH("Smelter List"&"d"&ROW(),L!$A:$A,0),0) -> Standard Smelter Names (*) | E4: =HLOOKUP(SL,LT,MATCH("Smelter List"&"e"&ROW(),L!$A:$A,0),0) -> Smelter Facility Location: Country (*) | F4: =HLOOKUP(SL,LT,MATCH("Smelter List"&"f"&ROW(),L!$A:$A,0),0) -> Smelter ID | G4: =HLOOKUP(SL,LT,MATCH("Smelter List"&"g"&ROW(),L!$A:$A,0),0) -> Smelter Facility Location: Street address | H4: =HLOOKUP(SL,LT,MATCH("Smelter List"&"h"&ROW(),L!$A:$A,0),0) -> Smelter Facility Location: City | I4: =HLOOKUP(SL,LT,MATCH("Smelter List"&"I"&ROW(),L!$A:$A,0),0) -> Smelter Facility Location: State / Province | J4: =HLOOKUP(SL,LT,MATCH("Smelter List"&"j"&ROW(),L!$A:$A,0),0) -> Smelter Facility Contact Name | K4: =HLOOKUP(SL,LT,MATCH("Smelter List"&"k"&ROW(),L!$A:$A,0),0) -> Smelter Facility Contact Email | L4: =HLOOKUP(SL,LT,MATCH("Smelter List"&"l"&ROW(),L!$A:$A,0),0) -> Proposed next steps, if applicable | M4: =HLOOKUP(SL,LT,MATCH("Smelter List"&"m"&ROW(),L!$A:$A,0),0) -> Name of Mine(s) or if recycled or scrap sourced, state recycled or scrap | N4: =HLOOKUP(SL,LT,MATCH("Smelter List"&"n"&ROW(),L!$A:$A,0),0) -> Location (Country) of Mine(s) or if recycled or scrap sourced, state recycled or scrap | O4: =HLOOKUP(SL,LT,MATCH("Smelter List"&"o"&ROW(),L!$A:$A,0),0) -> Comments | R4: Smelter not yet identified | S4: Smelter Not Listed
B5: Tin | C5: Minsur | D5: Minsur | E5: PERU | F5: 2PER019 | G5: Minsur, San Rafael, Peru | H5: Minsur, San Rafael, Peru | I5: San Rafael, Peru | J5: Jose Antonio Ore Riveria | K5: jore@minsur.com | L5: On the Compliant Tin Smelter List. | M5: Minsur, San Rafael, Peru | N5: San Rafael, Peru | O5: Kester solder (Purchased Component) | Q5: =IF(OR(C5="",C5=R$4,C5=S$4),NA(),MATCH($B5&$C5,K!$E:$E,0)) -> 291
B6: Tin | C6: Malaysia Smelting Corporation (MSC) | D6: Malaysia Smelting Corporation (MSC) | E6: MALAYSIA | F6: 2MYS016 | G6: 27, Jalan Pantai 12000 Butterworth | H6: Butterworth Smelter | I6: Penang, Malaysia | J6: Mr Chua Cheong Yong _Smelting Group Chief Operating Officer | K6: msc@msmelt.com | L6: On the Compliant Tin Smelter List. | N6: Penang, Malaysia | O6: Kester solder (Purchased Component) | Q6: =IF(OR(C6="",C6=R$4,C6=S$4),NA(),MATCH($B6&$C6,K!$E:$E,0)) -> 284
B7: Tin | C7: Thaisarco | D7: Thaisarco | E7: THAILAND | F7: 2THA046 | G7: 80 Moo 8 Sakdidej Rd., T.Vichit, A.Muang, Phuket 83000 Thailand | H7: Thailand, Offshore Dredging | I7: Phuket, Thailand | J7: Mr. Panya Torchareon | K7: tsr@thaisarco.com | L7: On the Compliant Tin Smelter List. | M7: Thailand, Offshore Dredging | N7: Thailand, Offshore Dredging | O7: Kester solder (Purchased Component) | Q7: =IF(OR(C7="",C7=R$4,C7=S$4),NA(),MATCH($B7&$C7,K!$E:$E,0)) -> 336
B8: Tin | C8: Mentok | D8: PT Timah | E8: INDONESIA | F8: 2IDN042 | G8: Jalan Jenderal Sudirman 51 Pangkalpinang 33121 Bangka Indonesia | H8: Pangkalpinang | I8: Bangka, Indonesia | J8: Suryadi Djabar Hamid Timah Production Manager | K8: general_affair@pttimah.co.id | L8: Received Conflict Minerals Declaration from PT Timah. Awaiting official validation on the Compliant Tin Smelter List. | M8: Bangka, Indonesia | N8: Bangka, Indonesia | O8: Kester solder (Purchased Component) | Q8: =IF(OR(C8="",C8=R$4,C8=S$4),NA(),MATCH($B8&$C8,K!$E:$E,0)) -> 286
D9: =IF(ISERROR($Q9),"",OFFSET(K!$D$1,$Q9-1,0)) | E9: =IF(ISERROR($Q9),"",OFFSET(K!$C$1,$Q9-1,0)) | F9: =IF(ISERROR($Q9),"",OFFSET(S_E1,MATCH(B9&D9,S_M,0)-1,0)) | Q9: =IF(OR(C9="",C9=R$4,C9=S$4),NA(),MATCH($B9&$C9,K!$E:$E,0)) -> #N/A
D10: =IF(ISERROR($Q10),"",OFFSET(K!$D$1,$Q10-1,0)) | E10: =IF(ISERROR($Q10),"",OFFSET(K!$C$1,$Q10-1,0)) | F10: =IF(ISERROR($Q10),"",OFFSET(S_E1,MATCH(B10&D10,S_M,0)-1,0)) | Q10: =IF(OR(C10="",C10=R$4,C10=S$4),NA(),MATCH($B10&$C10,K!$E:$E,0)) -> #N/A
D11: =IF(ISERROR($Q11),"",OFFSET(K!$D$1,$Q11-1,0)) | E11: =IF(ISERROR($Q11),"",OFFSET(K!$C$1,$Q11-1,0)) | F11: =IF(ISERROR($Q11),"",OFFSET(S_E1,MATCH(B11&D11,S_M,0)-1,0)) | Q11: =IF(OR(C11="",C11=R$4,C11=S$4),NA(),MATCH($B11&$C11,K!$E:$E,0)) -> #N/A
D12: =IF(ISERROR($Q12),"",OFFSET(K!$D$1,$Q12-1,0)) | E12: =IF(ISERROR($Q12),"",OFFSET(K!$C$1,$Q12-1,0)) | F12: =IF(ISERROR($Q12),"",OFFSET(S_E1,MATCH(B12&D12,S_M,0)-1,0)) | Q12: =IF(OR(C12="",C12=R$4,C12=S$4),NA(),MATCH($B12&$C12,K!$E:$E,0)) -> #N/A
D13: =IF(ISERROR($Q13),"",OFFSET(K!$D$1,$Q13-1,0)) | E13: =IF(ISERROR($Q13),"",OFFSET(K!$C$1,$Q13-1,0)) | F13: =IF(ISERROR($Q13),"",OFFSET(S_E1,MATCH(B13&D13,S_M,0)-1,0)) | Q13: =IF(OR(C13="",C13=R$4,C13=S$4),NA(),MATCH($B13&$C13,K!$E:$E,0)) -> #N/A
D14: =IF(ISERROR($Q14),"",OFFSET(K!$D$1,$Q14-1,0)) | E14: =IF(ISERROR($Q14),"",OFFSET(K!$C$1,$Q14-1,0)) | F14: =IF(ISERROR($Q14),"",OFFSET(S_E1,MATCH(B14&D14,S_M,0)-1,0)) | Q14: =IF(OR(C14="",C14=R$4,C14=S$4),NA(),MATCH($B14&$C14,K!$E:$E,0)) -> #N/A
D15: =IF(ISERROR($Q15),"",OFFSET(K!$D$1,$Q15-1,0)) | E15: =IF(ISERROR($Q15),"",OFFSET(K!$C$1,$Q15-1,0)) | F15: =IF(ISERROR($Q15),"",OFFSET(S_E1,MATCH(B15&D15,S_M,0)-1,0)) | Q15: =IF(OR(C15="",C15=R$4,C15=S$4),NA(),MATCH($B15&$C15,K!$E:$E,0)) -> #N/A
D16: =IF(ISERROR($Q16),"",OFFSET(K!$D$1,$Q16-1,0)) | E16: =IF(ISERROR($Q16),"",OFFSET(K!$C$1,$Q16-1,0)) | F16: =IF(ISERROR($Q16),"",OFFSET(S_E1,MATCH(B16&D16,S_M,0)-1,0)) | Q16: =IF(OR(C16="",C16=R$4,C16=S$4),NA(),MATCH($B16&$C16,K!$E:$E,0)) -> #N/A
D17: =IF(ISERROR($Q17),"",OFFSET(K!$D$1,$Q17-1,0)) | E17: =IF(ISERROR($Q17),"",OFFSET(K!$C$1,$Q17-1,0)) | F17: =IF(ISERROR($Q17),"",OFFSET(S_E1,MATCH(B17&D17,S_M,0)-1,0)) | Q17: =IF(OR(C17="",C17=R$4,C17=S$4),NA(),MATCH($B17&$C17,K!$E:$E,0)) -> #N/A
D18: =IF(ISERROR($Q18),"",OFFSET(K!$D$1,$Q18-1,0)) | E18: =IF(ISERROR($Q18),"",OFFSET(K!$C$1,$Q18-1,0)) | F18: =IF(ISERROR($Q18),"",OFFSET(S_E1,MATCH(B18&D18,S_M,0)-1,0)) | Q18: =IF(OR(C18="",C18=R$4,C18=S$4),NA(),MATCH($B18&$C18,K!$E:$E,0)) -> #N/A
D19: =IF(ISERROR($Q19),"",OFFSET(K!$D$1,$Q19-1,0)) | E19: =IF(ISERROR($Q19),"",OFFSET(K!$C$1,$Q19-1,0)) | F19: =IF(ISERROR($Q19),"",OFFSET(S_E1,MATCH(B19&D19,S_M,0)-1,0)) | Q19: =IF(OR(C19="",C19=R$4,C19=S$4),NA(),MATCH($B19&$C19,K!$E:$E,0)) -> #N/A
D20: =IF(ISERROR($Q20),"",OFFSET(K!$D$1,$Q20-1,0)) | E20: =IF(ISERROR($Q20),"",OFFSET(K!$C$1,$Q20-1,0)) | F20: =IF(ISERROR($Q20),"",OFFSET(S_E1,MATCH(B20&D20,S_M,0)-1,0)) | Q20: =IF(OR(C20="",C20=R$4,C20=S$4),NA(),MATCH($B20&$C20,K!$E:$E,0)) -> #N/A
... D2504: =IF(ISERROR($Q2504),"",OFFSET(K!$D$1,$Q2504-1,0)) | E2504: =IF(ISERROR($Q2504),"",OFFSET(K!$C$1,$Q2504-1,0)) | F2504: =IF(ISERROR($Q2504),"",OFFSET(S_E1,MATCH(B2504&D2504,S_M,0)-1,0)) | Q2504: =IF(OR(C2504="",C2504=R$4,C2504=S$4),NA(),MATCH($B2504&$C2504,K!$E:$E,0)) -> #N/A

Sheet Standard Smelter Names
A1: =HLOOKUP(SL,LT,MATCH("Standard Smelter Names"&"a"&ROW(),L!$A:$A,0),0) -> Note: The following list of smelter names does not represent the EICC-GeSI Conflict-Free Smelter (CFS) or all smelters worldwide. | H1: 148
A2: =HLOOKUP(SL,LT,MATCH("Standard Smelter Names"&"a"&ROW(),L!$A:$A,0),0) -> Metal | B2: =HLOOKUP(SL,LT,MATCH("Standard Smelter Names"&"b"&ROW(),L!$A:$A,0),0) -> Standard Smelter Names | C2: =HLOOKUP(SL,LT,MATCH("Standard Smelter Names"&"c"&ROW(),L!$A:$A,0),0) -> Known alias | D2: =HLOOKUP(SL,LT,MATCH("Standard Smelter Names"&"d"&ROW(),L!$A:$A,0),0) -> Smelter Facility Location: Country | E2: =HLOOKUP(SL,LT,MATCH("Standard Smelter Names"&"e"&ROW(),L!$A:$A,0),0) -> Smelter ID | F2: ISO Codes | G2: Smelter # | H2: 150 | I2: 151 | J2: 152 | K2: 153 | L2: 149 | M2: Metal+Ctandard
A3: Gold | B3: Aida Chemical Industries Co. Ltd. | D3: JAPAN | E3: 1JPN072 | F3: DEU | G3: 1 | M3: =A3&B3 -> GoldAida Chemical Industries Co. Ltd.
A4: Gold | B4: Allgemeine Gold- und Silberscheideanstalt A.G. | C4: Allgemeine Gold,Allgemeine Gold- & Silberscheideanstalt,Allgemeine | D4: GERMANY | E4: 1DEU001 | F4: UZB | G4: 2 | M4: =A4&B4 -> GoldAllgemeine Gold- und Silberscheideanstalt A.G.
A5: Gold | B5: Almalyk Mining and Metallurgical Complex (AMMC) | D5: UZBEKISTAN | E5: 1UZB002 | F5: BRA | G5: 3 | M5: =A5&B5 -> GoldAlmalyk Mining and Metallurgical Complex (AMMC)
A6: Gold | B6: AngloGold Ashanti Mineração Ltda | C6: AngloGold Ashanti | D6: BRAZIL | E6: 1BRA003 | F6: CHE | G6: 4 | M6: =A6&B6 -> GoldAngloGold Ashanti Mineração Ltda
A7: Gold | B7: Argor-Heraeus SA | C7: Argor Heraeus | D7: SWITZERLAND | E7: 1CHE004 | F7: JPN | G7: 5 | M7: =A7&B7 -> GoldArgor-Heraeus SA
A8: Gold | B8: Asahi Pretec Corporation | C8: AKK,Asahi Pretec Corp,Asahi Pretec Corp koube koujyo | D8: JAPAN | E8: 1JPN005 | F8: TUR | G8: 6 | M8: =A8&B8 -> GoldAsahi Pretec Corporation
A9: Gold | B9: Asaka Riken Co Ltd | D9: JAPAN | E9: 1JPN073 | F9: DEU | G9: 7 | H9: Metal #s | M9: =A9&B9 -> GoldAsaka Riken Co Ltd
A10: Gold | B10: Atasay Kuyumculuk Sanayi Ve Ticaret A.S. | C10: ATAkulche | D10: TURKEY | E10: 1TUR006 | F10: PHL | G10: 8 | H10: Gold | I10: 1 | M10: =A10&B10 -> GoldAtasay Kuyumculuk Sanayi Ve Ticaret A.S.
A11: Gold | B11: Aurubis AG | C11: Aurubis,Norddeutsche Affinererie AG | D11: GERMANY | E11: 1DEU007 | F11: SWE | G11: 9 | H11: Tin | I11: 2 | M11: =A11&B11 -> GoldAurubis AG
A12: Gold | B12: Bangko Sentral ng Pilipinas (Central Bank of the Philippines) | C12: Central Bank of the Philippines Gold Refinery & Mint | D12: PHILIPPINES | E12: 1PHL008 | F12: MEX | G12: 10 | H12: Tantalum | I12: 3 | M12: =A12&B12 -> GoldBangko Sentral ng Pilipinas (Central Bank of the Philippines)
A13: Gold | B13: Boliden AB | C13: Boliden Mineral AB | D13: SWEDEN | E13: 1SWE009 | F13: CHE | G13: 11 | H13: Tungsten | I13: 4 | M13: =A13&B13 -> GoldBoliden AB
A14: Gold | B14: Caridad | D14: MEXICO | E14: 1MEX010 | F14: KOR | G14: 12 | M14: =A14&B14 -> GoldCaridad
A15: Gold | B15: Cendres & Métaux SA | C15: Cendres et Métaux SA | D15: SWITZERLAND | E15: 1CHE011 | F15: ITA | G15: 13 | M15: =A15&B15 -> GoldCendres & Métaux SA
A16: Gold | B16: Central Bank of the DPR of Korea | D16: KOREA, REPUBLIC OF | E16: 1KOR012 | F16: CHL | G16: 14 | M16: =A16&B16 -> GoldCentral Bank of the DPR of Korea
A17: Gold | B17: Chimet SpA | C17: Chimet | D17: ITALY | E17: 1ITA013 | F17: JPN | G17: 15 | M17: =A17&B17 -> GoldChimet SpA
A18: Gold | B18: Chugai Mining | D18: JAPAN | E18: 1JPN078 | F18: RUS | G18: 16 | M18: =A18&B18 -> GoldChugai Mining
A19: Gold | B19: Codelco | D19: CHILE | E19: 1CHL014 | F19: DEU | G19: 17 | M19: =A19&B19 -> GoldCodelco
A20: Gold | B20: Daejin Indus Co. Ltd | D20: KOREA, REPUBLIC OF | E20: 1KOR082 | F20: DEU | G20: 18 | M20: =A20&B20 -> GoldDaejin Indus Co. Ltd
A21: Gold | B21: DaeryongENC | D21: KOREA, REPUBLIC OF | E21: 1KOR083 | F21: HKG | G21: 19 | M21: =A21&B21 -> GoldDaeryongENC
A22: Gold | B22: Do Sung Corporation | D22: KOREA, REPUBLIC OF | E22: 1KOR084 | F22: CHN | G22: 20 | M22: =A22&B22 -> GoldDo Sung Corporation
A23: Gold | B23: Dowa | C23: Dowa Kogyo k.k,Dowa Metals & Mining Co. Ltd,Dowa Metanix Co.Ltd,Dowa Metalmine co.ltd,Dowa Metals & Mining. Kosak Seiren,Dowa Holdings Co. Ltd | D23: JAPAN | E23: 1JPN015 | F23: JPN | G23: 21 | M23: =A23&B23 -> GoldDowa
A24: Gold | B24: FSE Novosibirsk Refinery | C24: Novosibirsk | D24: RUSSIAN FEDERATION | E24: 1RUS016 | F24: JPN | G24: 22 | M24: =A24&B24 -> GoldFSE Novosibirsk Refinery
A25: Gold | B25: Heimerle + Meule GmbH | D25: GERMANY | E25: 1DEU017 | F25: CHN | G25: 23 | M25: =A25&B25 -> GoldHeimerle + Meule GmbH
A26: Gold | B26: Heraeus Ltd Hong Kong | C26: Heraeus Hong Kong,Heraeus limited,Heraeus Technology Center | D26: HONG KONG | E26: 1HKG019 | F26: CAN | G26: 24 | M26: =A26&B26 -> GoldHeraeus Ltd Hong Kong
A27: Gold | B27: Heraeus Precious Metals GmbH & Co. KG | C27: Heraeus Germany,Heraeus Hanau,Heraeus Materials Technology GMBH&CO.KG,W.C. Heraeus GmbH | D27: GERMANY | E27: 1DEU018 | F27: USA | G27: 25 | M27: =A27&B27 -> GoldHeraeus Precious Metals GmbH & Co. KG
A28: Gold | B28: Hwasung CJ Co. Ltd | D28: KOREA, REPUBLIC OF | E28: 1KOR085 | F28: RUS | G28: 26 | M28: =A28&B28 -> GoldHwasung CJ Co. Ltd
A29: Gold | B29: Inner Mongolia Qiankun Gold and Silver Refinery Share Company Limited | C29: Qiankun Gold and Silver | D29: CHINA | E29: 1CHN020 | F29: RUS | G29: 27 | M29: =A29&B29 -> GoldInner Mongolia Qiankun Gold and Silver Refinery Share Company Limited
A30: Gold | B30: Ishifuku Metal Industry Co., Ltd. | C30: Ishifuku Tokyo Melters | D30: JAPAN | E30: 1JPN021 | F30: JPN | G30: 28 | M30: =A30&B30 -> GoldIshifuku Metal Industry Co., Ltd.
A31: Gold | B31: Istanbul Gold Refinery | D31: TURKEY | E31: 1TUR069 | F31: KAZ | G31: 29 | M31: =A31&B31 -> GoldIstanbul Gold Refinery
A32: Gold | B32: Japan Mint | C32: Japanese Mint Osaka | D32: JAPAN | E32: 1JPN022 | F32: KGZ | G32: 30 | M32: =A32&B32 -> GoldJapan Mint
A33: Gold | B33: Jiangxi Copper Company Limited | C33: JCC | D33: CHINA | E33: 1CHN023 | F33: SAU | G33: 31 | M33: =A33&B33 -> GoldJiangxi Copper Company Limited
A34: Gold | B34: Johnson Matthey Inc | C34: Johnson Matthey USA,JM USA,Johnson Matthey(Salt lake City) | D34: UNITED STATES | E34: 1USA025 | F34: KOR | G34: 32 | M34: =A34&B34 -> GoldJohnson Matthey Inc
A35: Gold | B35: Johnson Matthey Limited | C35: Johnson Matthey Canada,JM Canada | D35: CANADA | E35: 1CAN024 | F35: USA | G35: 33 | M35: =A35&B35 -> GoldJohnson Matthey Limited
A36: Gold | B36: JSC Ekaterinburg Non-Ferrous Metal Processing Plant | C36: Ekaterinburg | D36: RUSSIAN FEDERATION | E36: 1RUS026 | F36: JPN | G36: 34 | M36: =A36&B36 -> GoldJSC Ekaterinburg Non-Ferrous Metal Processing Plant
A37: Gold | B37: JSC Uralectromed | D37: RUSSIAN FEDERATION | E37: 1RUS027 | F37: CHE | G37: 35 | M37: =A37&B37 -> GoldJSC Uralectromed
A38: Gold | B38: JX Nippon Mining & Metals Co., Ltd | C38: JX Nippon Mining and Metals,Nippon Mining,Saganoseki Smelter & Refinery | D38: JAPAN | E38: 1JPN028 | F38: HKG | G38: 36 | M38: =A38&B38 -> GoldJX Nippon Mining & Metals Co., Ltd
A39: Gold | B39: Kazzinc Ltd | D39: KAZAKHSTAN | E39: 1KAZ029 | F39: USA | G39: 37 | M39: =A39&B39 -> GoldKazzinc Ltd
A40: Gold | B40: Kojima Chemicals Co. Ltd | D40: JAPAN | E40: 1JPN074 | F40: MEX | G40: 38 | M40: =A40&B40 -> GoldKojima Chemicals Co. Ltd
...

Sheet Checker
A1: =HLOOKUP(SL,LT,MATCH("Checker"&"a"&ROW(),L!$A:$A,0),0) -> To ensure all required fields have been populated before submitting to your customers review form for any line items highlighted in red | D1: =HLOOKUP(SL,LT,MATCH("checker"&"d"&ROW(),L!$A:$A,0),0) -> Required fields remaining to be completed
A2: Click here to return to Declaration tab | B2: =IF(Declaration!P26>0,"Click here to return to Smelter List","") -> Click here to return to Smelter List | C2: =IF(Declaration!D9=Declaration!S9,"Click here to return to Product List","") | D2: =H52 -> 0
A3: =HLOOKUP(SL,LT,MATCH("Checker"&"a"&ROW(),L!$A:$A,0),0) -> Required Fields | B3: =HLOOKUP(SL,LT,MATCH("Checker"&"b"&ROW(),L!$A:$A,0),0) -> Answer provided | C3: =HLOOKUP(SL,LT,MATCH("Checker"&"c"&ROW(),L!$A:$A,0),0) -> Notes | D3: =HLOOKUP(SL,LT,MATCH("Checker"&"d"&ROW(),L!$A:$A,0),0) -> Hyperlink to source | F3: condition1 | G3: condition2 | H3: remaining | I3: comment1 | J3: comment for remaining
A4: =Declaration!B8 -> Company Name (*): | B4: =Declaration!D8 -> Sonetics Corporation | C4: =IF(H4=1,J4,I4) -> Completed | D4: =IF(H4=1,"Click here to enter Company Name","") | F4: 1 | G4: =IF(B4=0,1,0) -> 0 | H4: =F4*G4 -> 0 | I4: Completed | J4: Must provide your company name on the declaration tab cell D8
A5: =Declaration!B9 -> Declaration Scope (*): | B5: =Declaration!D9 -> A. Company Level | C5: =IF(H5=1,J5,I5) -> Completed | D5: =IF(H5=1,"Click here to enter Declaration Scope","") | F5: 1 | G5: =IF(B5=0,1,0) -> 0 | H5: =F5*G5 -> 0 | I5: Completed | J5: Must determine the scope of declaration on the declaration tab cell D9
A6: =Declaration!B10 -> Description of Scope: | B6: =Declaration!D10 -> All products under Sonetics , Firecom and Flightcombrands | C6: =IF(H6=1,J6,I6) -> Completed | D6: =IF(H6=1,"Click here to provide a Description of Scope","") | F6: =IF(OR(B5=Declaration!P9,B5=Declaration!S9,B5=0),0,1) -> 0 | G6: =IF(B6=0,1,0) -> 0 | H6: =F6*G6 -> 0 | I6: Completed | J6: Must provide Description of Scope on Declaration tab cell D9
A7: =Declaration!B14 -> Authorized Company Representative Name (*): | B7: =Declaration!D14 -> Michael Heade | C7: =IF(H7=1,J7,I7) -> Completed | D7: =IF(H7=1,"Click here to enter an Authorized Company Representative's name","") | F7: 1 | G7: =IF(B7=0,1,0) -> 0 | H7: =F7*G7 -> 0 | I7: Completed | J7: Must provide Authorized Company Representative contact name in Declaration tab cell D14
A8: =Declaration!B16 -> Representative Email (*): | B8: =Declaration!D16 -> michael.heade@soneticscorp.com | C8: =IF(H8=1,J8,I8) -> Completed | D8: =IF(H8=1,"Click here to enter Representative's email","") | F8: 1 | G8: =IF(B8=0,1,0) -> 0 | H8: =F8*G8 -> 0 | I8: Completed | J8: Must provide an email for Authorized Company Representative on Declaration tab cell D16
A9: =Declaration!B18 -> Date of Completion (*): | B9: =Declaration!D18 -> 39815 | C9: =IF(H9=1,J9,I9) -> Completed | D9: =IF(H9=1,"Click here to enter Date of Completion","") | F9: 1 | G9: =IF(B9=0,1,0) -> 0 | H9: =F9*G9 -> 0 | I9: Completed | J9: Must provide date the form was completed on Declaration tab cell D18
A10: =Declaration!B21 -> 1) Are any of the following metals necessary to the functionality or production of your company's products that it manufactures or contracts to manufacture? (*) | H10: =F10*G10 -> 0
A11: =Declaration!B22 -> Tantalum (*) | B11: =Declaration!D22 -> No | C11: =IF(H11=1,J11,I11) -> Completed | D11: =IF(H11=1,"Click here to answer question 1 for Tantalum","") | F11: 1 | G11: =IF(B11=0,1,0) -> 0 | H11: =F11*G11 -> 0 | I11: Completed | J11: Must declare if Tantalum is in use within the scope of products declared within this survey response on the Declaration tab cell D22
A12: =Declaration!B23 -> Tin (*) | B12: =Declaration!D23 -> Yes | C12: =IF(H12=1,J12,I12) -> Completed | D12: =IF(H12=1,"Click here to answer question 1 for Tin","") | F12: 1 | G12: =IF(B12=0,1,0) -> 0 | H12: =F12*G12 -> 0 | I12: Completed | J12: Must declare if Tin is in use within the scope of products declared within this survey response on the Declaration tab cell D23
A13: =Declaration!B24 -> Gold (*) | B13: =Declaration!D24 -> No | C13: =IF(H13=1,J13,I13) -> Completed | D13: =IF(H13=1,"Click here to answer question 1 for Gold","") | F13: 1 | G13: =IF(B13=0,1,0) -> 0 | H13: =F13*G13 -> 0 | I13: Completed | J13: Must declare if Gold is in use within the scope of products declared within this survey response on the Declaration tab cell D24
A14: =Declaration!B25 -> Tungsten (*) | B14: =Declaration!D25 -> No | C14: =IF(H14=1,J14,I14) -> Completed | D14: =IF(H14=1,"Click here to answer question 1 for Tungsten","") | F14: 1 | G14: =IF(B14=0,1,0) -> 0 | H14: =F14*G14 -> 0 | I14: Completed | J14: Must declare if Tungsten is in use within the scope of products declared within this survey response on the Declaration tab cell D25
A15: =Declaration!B27 -> 2) Do the following metals (necessary to the functionality or production of your company's products) originate from the DRC or an adjoining country? (*)
A16: =Declaration!B28 -> Tantalum | B16: =Declaration!D28 -> No | C16: =IF(H16=1,J16,I16) -> Completed | D16: =IF(H16=1,"Click here to answer question 2 for Tantalum","") | F16: =IF(B11="No",0,1) -> 0 | G16: =IF(B16=0,1,0) -> 0 | H16: =F16*G16 -> 0 | I16: Completed | J16: Declare if Tantalum used within the scope of products declared within this survey response originated from the DRC or an adjoining Country on the Declaration tab cell D28
A17: =Declaration!B29 -> Tin (*) | B17: =Declaration!D29 -> No | C17: =IF(H17=1,J17,I17) -> Completed | D17: =IF(H17=1,"Click here to answer question 2 for Tin","") | F17: =IF(B12="No",0,1) -> 1 | G17: =IF(B17=0,1,0) -> 0 | H17: =F17*G17 -> 0 | I17: Completed | J17: Declare if Tin used within the scope of products declared within this survey response originated from the DRC or an adjoining Country on the Declaration tab cell D29
A18: =Declaration!B30 -> Gold | B18: =Declaration!D30 -> No | C18: =IF(H18=1,J18,I18) -> Completed | D18: =IF(H18=1,"Click here to answer question 2 for Gold","") | F18: =IF(B13="No",0,1) -> 0 | G18: =IF(B18=0,1,0) -> 0 | H18: =F18*G18 -> 0 | I18: Completed | J18: Declare if Gold used within the scope of products declared within this survey response originated from the DRC or an adjoining Country on the Declaration tab cell D30
A19: =Declaration!B31 -> Tungsten | B19: =Declaration!D31 -> No | C19: =IF(H19=1,J19,I19) -> Completed | D19: =IF(H19=1,"Click here to answer question 2 for Tungsten","") | F19: =IF(B14="No",0,1) -> 0 | G19: =IF(B19=0,1,0) -> 0 | H19: =F19*G19 -> 0 | I19: Completed | J19: Declare if Tungsten used within the scope of products declared within this survey response originated from the DRC or an adjoining Country on the Declaration tab cell D31
A20: =Declaration!B33 -> 3) Do the following metals (necessary to the functionality or production of your products) come from a recycler or scrap supplier? (*)
A21: =Declaration!B34 -> Tantalum | B21: =Declaration!D34 -> No | C21: =IF(H21=1,J21,I21) -> Completed | D21: =IF(H21=1,"Click here to answer question 3 for Tantalum","") | F21: =IF(B11="No",0,1) -> 0 | G21: =IF(B21=0,1,0) -> 0 | H21: =F21*G21 -> 0 | I21: Completed | J21: Declare if Tantalum used within the scope of products declared within this survey response originated from a recycled or scrap source on the Declaration tab cell D34
A22: =Declaration!B35 -> Tin (*) | B22: =Declaration!D35 -> No | C22: =IF(H22=1,J22,I22) -> Completed | D22: =IF(H22=1,"Click here to answer question 3 for Tin","") | F22: =IF(B12="No",0,1) -> 1 | G22: =IF(B22=0,1,0) -> 0 | H22: =F22*G22 -> 0 | I22: Completed | J22: Declare if Tin used within the scope of products declared within this survey response originated from a recycled or scrap source on the Declaration tab cell D35
A23: =Declaration!B36 -> Gold | B23: =Declaration!D36 -> No | C23: =IF(H23=1,J23,I23) -> Completed | D23: =IF(H23=1,"Click here to answer question 3 for Gold","") | F23: =IF(B13="No",0,1) -> 0 | G23: =IF(B23=0,1,0) -> 0 | H23: =F23*G23 -> 0 | I23: Completed | J23: Declare if Gold used within the scope of products declared within this survey response originated from a recycled or scrap source on the Declaration tab cell D36
A24: =Declaration!B37 -> Tungsten | B24: =Declaration!D37 -> No | C24: =IF(H24=1,J24,I24) -> Completed | D24: =IF(H24=1,"Click here to answer question 3 for Tungsten","") | F24: =IF(B14="No",0,1) -> 0 | G24: =IF(B24=0,1,0) -> 0 | H24: =F24*G24 -> 0 | I24: Completed | J24: Declare if Tungsten used within the scope of products declared within this survey response originated from a recycled or scrap source on the Declaration tab cell D37
A25: =Declaration!B39 -> 4) Have you received completed Conflict Minerals Reporting Templates from all of your suppliers? (*)
A26: =Declaration!B40 -> Tantalum | B26: =Declaration!D40 -> No - none | C26: =IF(H26=1,J26,I26) -> Completed | D26: =IF(H26=1,"Click here to answer question 4 for Tantalum","") | F26: =IF(B11="No",0,1) -> 0 | G26: =IF(B26=0,1,0) -> 0 | H26: =F26*G26 -> 0 | I26: Completed | J26: Provide % of completeness of supplier's smelter information on Declaration tab cell D40
A27: =Declaration!B41 -> Tin (*) | B27: =Declaration!D41 -> Yes | C27: =IF(H27=1,J27,I27) -> Completed | D27: =IF(H27=1,"Click here to answer question 4 for Tin","") | F27: =IF(B12="No",0,1) -> 1 | G27: =IF(B27=0,1,0) -> 0 | H27: =F27*G27 -> 0 | I27: Completed | J27: Provide % of completeness of supplier's smelter information on Declaration tab cell D41
A28: =Declaration!B42 -> Gold | B28: =Declaration!D42 -> No - none | C28: =IF(H28=1,J28,I28) -> Completed | D28: =IF(H28=1,"Click here to answer question 4 for Gold","") | F28: =IF(B13="No",0,1) -> 0 | G28: =IF(B28=0,1,0) -> 0 | H28: =F28*G28 -> 0 | I28: Completed | J28: Provide % of completeness of supplier's smelter information on Declaration tab cell D42
A29: =Declaration!B43 -> Tungsten | B29: =Declaration!D43 -> No - none | C29: =IF(H29=1,J29,I29) -> Completed | D29: =IF(H29=1,"Click here to answer question 4 for Tungsten","") | F29: =IF(B14="No",0,1) -> 0 | G29: =IF(B29=0,1,0) -> 0 | H29: =F29*G29 -> 0 | I29: Completed | J29: Provide % of completeness of supplier's smelter information on Declaration tab cell D43
A30: =Declaration!B45 -> 5) For each of the following metals, have you identified all of the smelters your company and its suppliers use to supply the products included within the declaration scope indicated above? (*)
A31: =Declaration!B46 -> Tantalum | B31: =Declaration!D46 -> No | C31: =IF(H31=1,J31,I31) -> Completed | D31: =IF(H31=1,"Click here to answer question 5 for Tantalum","") | F31: =IF(B11="No",0,1) -> 0 | G31: =IF(B31=0,1,0) -> 0 | H31: =F31*G31 -> 0 | I31: Completed | J31: Declare if all smelter names have been provided in this survey response which fall under the scope of products declared within this survey response on the Declaration tab cell D46
A32: =Declaration!B47 -> Tin (*) | B32: =Declaration!D47 -> Yes all smelters have been provided | C32: =IF(H32=1,J32,I32) -> Completed | D32: =IF(H32=1,"Click here to answer question 5 for Tin","") | F32: =IF(B12="No",0,1) -> 1 | G32: =IF(B32=0,1,0) -> 0 | H32: =F32*G32 -> 0 | I32: Completed | J32: Declare if all smelter names have been provided in this survey response which fall under the scope of products declared within this survey response on the Declaration tab cell D47
A33: =Declaration!B48 -> Gold | B33: =Declaration!D48 -> No | C33: =IF(H33=1,J33,I33) -> Completed | D33: =IF(H33=1,"Click here to answer question 5 for Gold","") | F33: =IF(B13="No",0,1) -> 0 | G33: =IF(B33=0,1,0) -> 0 | H33: =F33*G33 -> 0 | I33: Completed | J33: Declare if all smelter names have been provided in this survey response which fall under the scope of products declared within this survey response on the Declaration tab cell D48
A34: =Declaration!B49 -> Tungsten | B34: =Declaration!D49 -> No | C34: =IF(H34=1,J34,I34) -> Completed | D34: =IF(H34=1,"Click here to answer question 5 for Tungsten","") | F34: =IF(B14="No",0,1) -> 0 | G34: =IF(B34=0,1,0) -> 0 | H34: =F34*G34 -> 0 | I34: Completed | J34: Declare if all smelter names have been provided in this survey response which fall under the scope of products declared within this survey response on the Declaration tab cell D49
A35: =Declaration!B51 -> 6) Have all of the smelters used by your company and its suppliers been validated as compliant in accordance with the Conflict-Free Smelter (CFS) Program and listed on the Compliant Smelter List for the following metals? (*)
A36: =Declaration!B52 -> Tantalum | B36: =Declaration!D52 -> No | C36: =IF(H36=1,J36,I36) -> Completed | D36: =IF(H36=1,"Click here to answer question 6 for Tantalum","") | F36: =IF(B11="No",0,1) -> 0 | G36: =IF(B36=0,1,0) -> 0 | H36: =F36*G36 -> 0 | I36: Completed | J36: Must declare if all smelters your company and its suppliers use for Tantalum are on the Conflict-Free Smelter (CFS) list on Declaration tab cell D52
A37: =Declaration!B53 -> Tin (*) | B37: =Declaration!D53 -> Yes | C37: =IF(H37=1,J37,I37) -> Completed | D37: =IF(H37=1,"Click here to answer question 6 for Tin","") | F37: =IF(B12="No",0,1) -> 1 | G37: =IF(B37=0,1,0) -> 0 | H37: =F37*G37 -> 0 | I37: Completed | J37: Must declare if all smelters your company and its suppliers use for Tin are on the Conflict-Free Smelter (CFS) list on Declaration tab cell D53
A38: =Declaration!B54 -> Gold | B38: =Declaration!D54 -> No | C38: =IF(H38=1,J38,I38) -> Completed | D38: =IF(H38=1,"Click here to answer question 6 for Gold","") | F38: =IF(B13="No",0,1) -> 0 | G38: =IF(B38=0,1,0) -> 0 | H38: =F38*G38 -> 0 | I38: Completed | J38: Must declare if all smelters your company and its suppliers use for Gold are on the Conflict-Free Smelter (CFS) list on Declaration tab cell D54
A39: =Declaration!B55 -> Tungsten | B39: =Declaration!D55 -> No | C39: =IF(H39=1,J39,I39) -> Completed | D39: =IF(H39=1,"Click here to answer question 6 for Tungsten","") | F39: =IF(B14="No",0,1) -> 0 | G39: =IF(B39=0,1,0) -> 0 | H39: =F39*G39 -> 0 | I39: Completed | J39: Must declare if all smelters your company and its suppliers use for Tungsten are on the Conflict-Free Smelter (CFS) list on Declaration tab cell D55
A40: =Declaration!B59 -> A. Do you have a policy in place that includes DRC conflict-free sourcing? (*) | B40: =Declaration!D59 -> Yes | C40: =IF(H40=1,J40,I40) -> Completed | D40: =IF(H40=1,"Click here to document answer on DRC Conflict-Free sourcing policy","") | F40: =IF(AND(B$11="No",B$12="No",B$13="No",B$14="No"),0,1) -> 1 | G40: =IF(B40=0,1,0) -> 0 | H40: =F40*G40 -> 0 | I40: Completed | J40: Must answer if your company has a DRC Conflict-Free sourcing policy on the Declaration tab cell D59
...

Sheet Product List
A1: =HLOOKUP(SL,LT,MATCH("Product List"&"a"&ROW(),L!$A:$A,0),0) -> Completion required only if reporting level "Product-level" selected on the 'Declaration' tab.
B4: Click here to return to Declaration tab
B5: =HLOOKUP(SL,LT,MATCH("Product List"&"b"&ROW(),L!$A:$A,0),0) -> Product or Item Number (*) | C5: =HLOOKUP(SL,LT,MATCH("Product List"&"c"&ROW(),L!$A:$A,0),0) -> Product or Item Description | D5: =HLOOKUP(SL,LT,MATCH("Product List"&"d"&ROW(),L!$A:$A,0),0) -> Comments
B6: All Sonetics products | C6: All Sonetics Products | D6: Includes all Firecom and Flightcom products
B301: © 2011 Electronic Industry Citizenship Coalition, Incorporated and Global e-Sustainability Initiative. All rights reserved.

Sheet L
B1: Sheets | C1: Cells | D1: English | E1: 中文 Chinese | F1: 日本語 Japanese | G1: 한국어 Korean | H1: Français | I1: Português | J1: Deutsch | K1: Español | L1: italiano
A2: =B2&C2 -> InstructionsA1 | B2: Instructions | C2: A1 | D2: EICC Extractives website: (www.eicc.info/extractives.htm) training, request template, FAQs, Conflict-Free Smelters (CFS) list | E2: EICC Extractives 网址：（www.eicc.info/ extractives.htm） 培训，要求模板，常见问题，无冲突冶炼厂（CFS）清单 | F2: EICC 紛争鉱物に関するウェブサイト：(www.eicc.info/extractives.htm) トレーニング、要請テンプレート、良くある質問（FAQ）、コンフリクトフリー製錬業者（CFS)リスト | G2: EICC 분쟁광물 워킹그룹 웹사이트 (www.eicc.info/extractives.htm) 분쟁광물 사용에 관한 교육자료, 자주하는질문(FAQs), 분쟁으로부터 자유로운 제련소 (CFS, Conflict Free Smelter) 리스트를 확인할 수 있습니다. | H2: Extraits du site Internet : (www.eicc.info/extractives.htm) Formation, modèles, FAQs, liste des Conflict-Free Smelters (CFS - fonderies certifiant l’origine et la traçabilité des métaux provenant de zones de conflit ou à haut risque) | I2: EICC Minérios website: (www.eicc.info/extractives.htm) treinamento, solicitação de modelos, Perguntas Frequentes (FAQ´s, Lista de Fundições Livre de Conflitos de Minerais (FLC) | J2: EICC Extractives website: (www.eicc.info/extractives.htm) Schulung, Anfragevorlage, häufig gestellte Fragen, Konfliktfreie Schmelzhütten (CFS) Liste | K2: EICC Extractives website: (www.eicc.info/extractives.htm) Entrenamiento, templete de requerimiento, Preguntas frecuentes, Lista de fundidores libres de minerales en conflicto (CFS por siglas en Ingles) | L2: Estratti dal sito internet: (www.eicc.info/extractives.htm) Formazione, modelli, Domande Frequenti (FAQs), lista dei Conflict-Free Smelters (CFS - fonderie che certificano l'origine e la tracciabilità dei metalli provenienti da zone di conflitto o ad alto rischio)
A3: =B3&C3 -> InstructionsA2 | B3: Instructions | C3: A2 | D3: Introduction | E3: 介绍 | F3: 始めに | G3: 소개 | H3: Introduction | I3: Introdução | J3: Einführung | K3: Introduccion | L3: Introduzione
